BEGIN:VCALENDAR
VERSION:2.0
PRODID:-//eventon.com NONSGML v1.0//EN
CALSCALE:GREGORIAN
METHOD:PUBLISH
BEGIN:VEVENT
UID:69e9d8b4e5783
DTSTAMP:20260423T083044Z
DTSTART:20220508T130000Z
DTEND:20220508T215000Z
LOCATION:Jazz- en wijncafé De Twee Spieghels Nieuwstraat 11\,  2312 KA\,  Leiden
SUMMARY:Younes Benslimane quartet
DESCRIPTION:Younes Benslimane quartet\nhttps://www.detweespieghels.nl/archi
 even/events/younes-benslimane-quartet
URL:https://www.detweespieghels.nl/archieven/events/younes-benslimane-quartet
END:VEVENT
END:VCALENDAR