BEGIN:VCALENDAR
VERSION:2.0
PRODID:-//eventon.com NONSGML v1.0//EN
CALSCALE:GREGORIAN
METHOD:PUBLISH
BEGIN:VEVENT
UID:69e71827d3d64
DTSTAMP:20260421T062439Z
DTSTART:20230219T150000Z
DTEND:20230219T225000Z
LOCATION:Jazz- en wijncafé De Twee Spieghels Nieuwstraat 11\,  2312 KA\,  Leiden
SUMMARY:Aseo Friesacher quartet
DESCRIPTION:Aseo Friesacher is a pianist and composer born in Vienna\,  Aus
 tria. Since an early age he was very interested in music and he was able to
  pick up melodies and rhythms easily. It was soon clear to him that a music
  career is the only thing he wants to pursue.[..]\nhttps://www.detweespiegh
 els.nl/archieven/events/aseo-friesacher-quartet
URL:https://www.detweespieghels.nl/archieven/events/aseo-friesacher-quartet
END:VEVENT
END:VCALENDAR