BEGIN:VCALENDAR
VERSION:2.0
PRODID:-//eventon.com NONSGML v1.0//EN
CALSCALE:GREGORIAN
METHOD:PUBLISH
BEGIN:VEVENT
UID:69e72231c9fad
DTSTAMP:20260421T070729Z
DTSTART:20240504T081000Z
DTEND:20240504T215000Z
LOCATION:Jazz- en wijncafé De Twee Spieghels Nieuwstraat 11\,  2312 KA\,  Leiden
SUMMARY:Dodenherdenking\,  geen live muziek
DESCRIPTION:\nhttps://www.detweespieghels.nl/archieven/events/dodenherdenki
 ng-geen-live-muziek
URL:https://www.detweespieghels.nl/archieven/events/dodenherdenking-geen-live-muziek
END:VEVENT
END:VCALENDAR