BEGIN:VCALENDAR
VERSION:2.0
PRODID:-//eventon.com NONSGML v1.0//EN
CALSCALE:GREGORIAN
METHOD:PUBLISH
BEGIN:VEVENT
UID:69e9db55b2fc8
DTSTAMP:20260423T084157Z
DTSTART:20250221T200000Z
DTEND:20250220T230000Z
LOCATION:Jazz- en wijncafé De Twee Spieghels Nieuwstraat 11\,  2312 KA\,  Leiden
SUMMARY:Patrieck Bonnet quartet
DESCRIPTION:Patrieck Bonnet &#8211; Tenor saxCasper Christensen (DK) &#8211
 ; gitaarMatheus Nicolaiewsky &#8211; contrabasJasper Hilgerink &#8211; drum
 s\nhttps://www.detweespieghels.nl/archieven/events/patrieck-bonnet-quartet
URL:https://www.detweespieghels.nl/archieven/events/patrieck-bonnet-quartet
END:VEVENT
END:VCALENDAR