BEGIN:VCALENDAR
VERSION:2.0
PRODID:-//eventon.com NONSGML v1.0//EN
CALSCALE:GREGORIAN
METHOD:PUBLISH
BEGIN:VEVENT
UID:69e5e6d32cac0
DTSTAMP:20260420T084155Z
DTSTART:20250921T140000Z
DTEND:20250921T170000Z
LOCATION:Jazz- en wijncafé De Twee Spieghels Nieuwstraat 11\,  2312 KA\,  Leiden
SUMMARY:Max Kuitems
DESCRIPTION:About Max Max Kuitems is a pianist from the Netherlands. After 
 studying at the University of Leiden\,  he pursued jazz piano studying unde
 r Rob Van Bavel at the Hague&#8217;s Royal Conservatory. From that point he
  started to become a presence on the NL&#8217;s international jazz scene\, 
  playing in many Dutch[..]\nhttps://www.detweespieghels.nl/archieven/events
 /max-kuitems-2
URL:https://www.detweespieghels.nl/archieven/events/max-kuitems-2
END:VEVENT
END:VCALENDAR